BEGIN:VCALENDAR
VERSION:2.0
PRODID:-//ChamberMaster//Event Calendar 2.0//EN
METHOD:PUBLISH
X-PUBLISHED-TTL:P3D
REFRESH-INTERVAL:P3D
CALSCALE:GREGORIAN
BEGIN:VEVENT
DTSTART:20200922T210000Z
DTEND:20200922T230000Z
X-MICROSOFT-CDO-ALLDAYEVENT:FALSE
SUMMARY:NATIONAL VOTER REGISTRATION DAY-GLEN ELLYN PUBLIC LIBRARY September 22nd 4-6 PM
DESCRIPTION:Register or check your registration at the Glen Ellyn Public Library.  The League of Women Voters of Gen Ellyn  and the Glen Ellyn Public Library have partnered to  have registrars on hand to register you to vote or answer any questions you might have. Students turning 18 on or before Nov 3\, 2020 are eligible to vote in this upcoming election. Help encourage them to register to vote!
X-ALT-DESC;FMTTYPE=text/html:<span style="font-family:times new roman"><span style="font-size:24px"><strong>Register or check your registration at the Glen Ellyn Public Library.&nbsp\; The League of Women Voters of Gen Ellyn&nbsp\; and the Glen Ellyn Public Library have partnered to&nbsp\;&nbsp\;have registrars on hand to register you to vote or answer any questions you might have. Students turning 18 on or before Nov 3\, 2020 are eligible to vote in this upcoming election. Help encourage them to register to vote!&nbsp\;</strong></span></span>
LOCATION:Glen Ellyn Public Library
UID:e.1124.9853
SEQUENCE:3
DTSTAMP:20260425T141820Z
URL:https://business.glenellynchamber.com/events/details/national-votes-registration-day-glen-ellyn-public-library-sept-22nd-4-6-pm-9853
END:VEVENT

END:VCALENDAR
