BEGIN:VCALENDAR
VERSION:2.0
PRODID:-//ChamberMaster//Event Calendar 2.0//EN
METHOD:PUBLISH
X-PUBLISHED-TTL:P3D
REFRESH-INTERVAL:P3D
CALSCALE:GREGORIAN
BEGIN:VEVENT
DTSTART:20220217T143000Z
DTEND:20220217T183000Z
X-MICROSOFT-CDO-ALLDAYEVENT:FALSE
SUMMARY:New Employment Law Update for Illinois Employers of All Sizes
DESCRIPTION:Please join Management-Side Labor & Employment Attorney\, Jeff Risch\, of SmithAmundsen LLC for an in-depth review and discussion of the very latest employment & labor law developments over the past year as well as the latest proposals in Washington DC and Springfield in 2022. Key Topics Will Include: New Joint Employer Risks/Liabilities Equal Pay Disclosures Restrictions on the use of Criminal Convictions Wage & Hour Trends and Latest Pitfalls Union Organizing & Employer Neutrality Mandates OSHA Updates (including the latest on vaccination issues) Non-compete Agreements and other Unfair Competition Issues Restrictions on No Poaching Agreements/Understandings Mandatory Leave Laws (including paid sick leave mandates) And More!
X-ALT-DESC;FMTTYPE=text/html:Please join Management-Side Labor &amp\; Employment Attorney\, Jeff Risch\, of SmithAmundsen LLC for an in-depth review and discussion of the very latest employment &amp\; labor law developments over the past year as well as the latest proposals in Washington DC and Springfield in 2022. Key Topics Will Include: New Joint Employer Risks/Liabilities Equal Pay Disclosures Restrictions on the use of Criminal Convictions Wage &amp\; Hour Trends and Latest Pitfalls Union Organizing &amp\; Employer Neutrality Mandates OSHA Updates (including the latest on vaccination issues) Non-compete Agreements and other Unfair Competition Issues Restrictions on No Poaching Agreements/Understandings Mandatory Leave Laws (including paid sick leave mandates) And More!
LOCATION:Illinois Chamber of Commerce 215 E. Adams Springfield\, IL 62701
UID:e.1124.10155
SEQUENCE:3
DTSTAMP:20260421T164044Z
URL:https://business.glenellynchamber.com/events/details/new-employment-law-update-for-illinois-employers-of-all-sizes-10155
END:VEVENT

END:VCALENDAR
