BEGIN:VCALENDAR
VERSION:2.0
PRODID:-//ChamberMaster//Event Calendar 2.0//EN
METHOD:PUBLISH
X-PUBLISHED-TTL:P3D
REFRESH-INTERVAL:P3D
CALSCALE:GREGORIAN
BEGIN:VEVENT
DTSTART:20211116T140000Z
DTEND:20211116T145500Z
X-MICROSOFT-CDO-ALLDAYEVENT:FALSE
SUMMARY:No Meeting - Chamber Board of Directors Meeting
DESCRIPTION:The Glen Ellyn Chamber of Commerce Board of Directors meet on the third Tuesday of each month. To be included on the Board meeting agenda. The Board of Directors don't meet the month of May\, July and November. \n\n\n\nTo view the list of current Board members\, click on "Board and Staff" under the "About" tab.
X-ALT-DESC;FMTTYPE=text/html:<br />\nThe Glen Ellyn Chamber of Commerce Board of Directors meet on the third Tuesday of each month. To be included on the Board meeting agenda. The Board of Directors don&#39\;t meet the month of May\, July and <strong>November.&nbsp\;</strong><br />\n<br />\nTo view the list of current Board members\, click on &quot\;Board and Staff&quot\; under the &quot\;About&quot\; tab.
LOCATION:Zoom Link
UID:e.1124.9914
SEQUENCE:3
DTSTAMP:20260424T142602Z
URL:https://business.glenellynchamber.com/events/details/no-meeting-chamber-board-of-directors-meeting-9914
END:VEVENT

END:VCALENDAR
