BEGIN:VCALENDAR
VERSION:2.0
PRODID:-//ChamberMaster//Event Calendar 2.0//EN
METHOD:PUBLISH
X-PUBLISHED-TTL:P3D
REFRESH-INTERVAL:P3D
CALSCALE:GREGORIAN
BEGIN:VEVENT
DTSTART:20201117T140000Z
DTEND:20201117T145500Z
X-MICROSOFT-CDO-ALLDAYEVENT:FALSE
SUMMARY:No Meeting: Glen Ellyn Chamber Board of Directors Meeting
DESCRIPTION:The Board of Directors don't meet the month of May\, July and November. \n\n\n\nThe Glen Ellyn Chamber of Commerce Board of Directors meet on the third Tuesday of each month. To be included on the Board meeting agenda. \n\n\n\nTo view the list of current Board members\, click on "Board and Staff" under the "About" tab.
X-ALT-DESC;FMTTYPE=text/html:The Board of Directors don&#39\;t meet the month of May\, July and <strong>November</strong>.&nbsp\;<br />\n<br />\nThe Glen Ellyn Chamber of Commerce Board of Directors meet on the third Tuesday of each month. To be included on the Board meeting agenda.&nbsp\;<br />\n<br />\nTo view the list of current Board members\, click on &quot\;Board and Staff&quot\; under the &quot\;About&quot\; tab.
LOCATION:Virtual Meeting via Zoom (link will be emailed prior the meeting)
UID:e.1124.9480
SEQUENCE:3
DTSTAMP:20260421T151554Z
URL:https://business.glenellynchamber.com/events/details/no-meeting-glen-ellyn-chamber-board-of-directors-meeting-9480
END:VEVENT

END:VCALENDAR
