BEGIN:VCALENDAR
VERSION:2.0
PRODID:-//ChamberMaster//Event Calendar 2.0//EN
METHOD:PUBLISH
X-PUBLISHED-TTL:P3D
REFRESH-INTERVAL:P3D
CALSCALE:GREGORIAN
BEGIN:VEVENT
DTSTART:20260609T213000Z
DTEND:20260609T233000Z
X-MICROSOFT-CDO-ALLDAYEVENT:FALSE
SUMMARY:Patio Party - Member Appreciation
DESCRIPTION:Join us for a Members Appreciation Patio Party on Tuesday\, June 9 from 4:30-6:30pm at Alfie's Inn!\n\n\n\nWe're grateful for our Chamber members and all you do to support the Glen Ellyn community.\n\n\n\nJoin us for an evening of food\, music\, games\, and great company!\n\n\n\nHosted by the Ambassadors of the Glen Ellyn Chamber.
X-ALT-DESC;FMTTYPE=text/html:<span style="font-family:arial\;"><span style="font-size:16px\;">Join us for a Members Appreciation Patio Party on Tuesday\, June 9 from 4:30-6:30pm at Alfie&#39\;s Inn!</span></span><br />\n<br />\n<span style="font-size:16px\;">We&rsquo\;re grateful for our Chamber members and all you do to support the Glen Ellyn community.<br />\n<br data-end="198" data-start="195" />\nJoin us for an evening of food\, music\, games\, and great company!</span><br />\n<br />\n<span style="font-size:16px\;">Hosted by the Ambassadors of the Glen Ellyn Chamber.</span>
LOCATION:Alfie's Inn 425 Roosevelt Rd. Glen Ellyn IL 60137
UID:e.1124.17545
SEQUENCE:3
DTSTAMP:20260422T193939Z
URL:https://business.glenellynchamber.com/events/details/patio-party-member-appreciation-17545
END:VEVENT

END:VCALENDAR
