BEGIN:VCALENDAR
VERSION:2.0
PRODID:-//ChamberMaster//Event Calendar 2.0//EN
METHOD:PUBLISH
X-PUBLISHED-TTL:P3D
REFRESH-INTERVAL:P3D
CALSCALE:GREGORIAN
BEGIN:VEVENT
DTSTART:20220925T180000Z
DTEND:20220925T213000Z
X-MICROSOFT-CDO-ALLDAYEVENT:FALSE
SUMMARY:Pioneer Day at Stacy's Tavern Museum
DESCRIPTION:1840's Pioneer Life Is a Reality at Pioneer Day - 800 N. Main Street on Historic Stacy's Corners Experience early Pioneer Life at Pioneer Day on Sun. Sept. 25 between 1 and 4:30 PM. Come to Historic Stacy's Corners at 800 N. Main Street in Glen Ellyn and 1840's life isready for new pioneers. There are live farm animals\, craft-making for kids\, candle making\, corn shelling\, apple peeling\, working on a Fall harvest\, pioneer games\, roping of beds\, Civil War actors\, and Native Americans. Adults $8\, GEHS Members $6 Children (3-17) $4   GEHS Members Children $3\; children under 3 are free. Call 630-469-1867 and check website at www.gehs.org.
X-ALT-DESC;FMTTYPE=text/html:1840&#39\;s Pioneer Life Is a Reality at Pioneer Day - 800 N. Main Street on Historic Stacy&#39\;s Corners Experience early Pioneer Life at Pioneer Day on Sun. Sept. 25 between 1 and 4:30 PM. Come to Historic Stacy&#39\;s Corners at 800 N. Main Street in Glen Ellyn and 1840&#39\;s life isready for new pioneers. There are live farm animals\, craft-making for kids\, candle making\, corn shelling\, apple peeling\, working on a Fall harvest\, pioneer games\, roping of beds\, Civil War actors\, and Native Americans. Adults $8\, GEHS Members $6 Children (3-17) $4 &ndash\; GEHS Members Children $3\; children under 3 are free. Call 630-469-1867 and check website at www.gehs.org.
LOCATION:Stacy's Historic Corners - 800 N. Main Street\, Glen Ellyn\, IL 60137
UID:e.1124.10269
SEQUENCE:3
DTSTAMP:20260421T200748Z
URL:https://business.glenellynchamber.com/events/details/pioneer-day-at-stacy-s-tavern-museum-10269
END:VEVENT

END:VCALENDAR
