BEGIN:VCALENDAR
VERSION:2.0
PRODID:-//ChamberMaster//Event Calendar 2.0//EN
METHOD:PUBLISH
X-PUBLISHED-TTL:P3D
REFRESH-INTERVAL:P3D
CALSCALE:GREGORIAN
BEGIN:VEVENT
DTSTART:20200429T160000Z
DTEND:20200429T181500Z
X-MICROSOFT-CDO-ALLDAYEVENT:FALSE
SUMMARY:Postponed: Tables of Interest Progressive Luncheon
DESCRIPTION:This event has been postponed\n\nYou are invited to the Carol Stream Chamber of Commerce Women in Business Multi Chamber\n\n\n\n"TABLES OF INTEREST PROGRESSIVE LUNCHEON"\n\nWEDNESDAY\, APRIL 29\, 2020\n\nMore details TBA
X-ALT-DESC;FMTTYPE=text/html:<div style="text-align: center\;">This event has been <u>postponed</u><br />\n<strong><em><span style="border:none windowtext 1.0pt\;padding:0in\;"><span style="color:#7030A0\;"><span style="font-size:14.0pt\;"><span style="font-size:16px\;">You are invited to the Carol Stream Chamber of Commerce Women in Business Multi Chamber</span></span></span></span></em></strong><br />\n<br />\n<span style="font-size:16px\;"><strong><em><span style="border:none windowtext 1.0pt\;padding:0in\;"><span style="color:#B33C0D\;">&quot\;TABLES OF INTEREST</span></span></em></strong> <strong><em><span style="border:none windowtext 1.0pt\;padding:0in\;"><span style="color:#B33C0D\;">PROGRESSIVE LUNCHEON&quot\;</span></span></em></strong><br />\n<span style="font-size:14px\;"><em><span style="border:none windowtext 1.0pt\;padding:0in\;"><span style="color:#000099\;">WEDNESDAY\, APRIL 29\, 2020</span></span></em><br />\n<em><span style="border:none windowtext 1.0pt\;padding:0in\;"><span style="color:#000099\;">More details TBA</span></span></em></span></span></div>\n
LOCATION:Holiday Inn & Suites Carol Stream 150 S. Gary Ave. Carol Stream
UID:e.1124.9474
SEQUENCE:3
DTSTAMP:20260425T171024Z
URL:https://business.glenellynchamber.com/events/details/postponed-tables-of-interest-progressive-luncheon-9474
END:VEVENT

END:VCALENDAR
