BEGIN:VCALENDAR
VERSION:2.0
PRODID:-//ChamberMaster//Event Calendar 2.0//EN
METHOD:PUBLISH
X-PUBLISHED-TTL:P3D
REFRESH-INTERVAL:P3D
CALSCALE:GREGORIAN
BEGIN:VEVENT
DTSTART:20201117T210000Z
DTEND:20201117T223000Z
X-MICROSOFT-CDO-ALLDAYEVENT:FALSE
SUMMARY:Postponed: Virtual Multi-Chamber - When the crisis passes\, will your small business still be standing?
DESCRIPTION:Presenter: Jim Paglia\, President Brand\n\n \n\nToday's economic climate is nothing short of harrowing. Some businesses are hanging on by sheer will. Help your business' brand weather the unprecedented combination of COVID- 19\, a struggling marketplace\, social unrest\, and natural disasters.\n\n \n\nAs a small business owner himself\, Jim Paglia\, noted Brand Strategist \, will share insights he applies to keep his businesses strong in these challenging times and the counsel he offers to clients ranging from entrepreneurs to Fortune 500  firms in a variety of industries\, professions and settings.
X-ALT-DESC;FMTTYPE=text/html:<div style="color: rgb(0\, 0\, 0)\; font-family: &quot\;Open Sans&quot\;\, sans-serif\; font-size: 14px\; white-space: pre-wrap\; text-align: center\;">Presenter: Jim Paglia\, President Brand</div>\n\n<div style="color: rgb(0\, 0\, 0)\; font-family: &quot\;Open Sans&quot\;\, sans-serif\; font-size: 14px\; white-space: pre-wrap\;">&nbsp\;</div>\n\n<div style="color: rgb(0\, 0\, 0)\; font-family: &quot\;Open Sans&quot\;\, sans-serif\; font-size: 14px\; white-space: pre-wrap\;"><span style="font-size: 12px\;">Today&rsquo\;s economic climate is nothing short of harrowing. Some businesses are hanging on by sheer will. Help your business&#39\; brand weather the unprecedented combination of COVID- 19\, a struggling marketplace\, social unrest\, and natural disasters.</span></div>\n\n<div style="color: rgb(0\, 0\, 0)\; font-family: &quot\;Open Sans&quot\;\, sans-serif\; font-size: 14px\; white-space: pre-wrap\;">&nbsp\;</div>\n\n<div style="color: rgb(0\, 0\, 0)\; font-family: &quot\;Open Sans&quot\;\, sans-serif\; font-size: 14px\; white-space: pre-wrap\;"><span style="font-size: 12px\;">As a small business owner himself\, Jim Paglia\, noted Brand Strategist \, will share insights he applies to keep his businesses strong in these challenging times and the counsel he offers to clients ranging from entrepreneurs to Fortune 500&reg\; firms in a variety of industries\, professions and settings.</span></div>\n
LOCATION:Virtual Meeting via Zoom. A link to join will be emailed prior the meeting.
UID:e.1124.9859
SEQUENCE:3
DTSTAMP:20260421T151251Z
URL:https://business.glenellynchamber.com/events/details/postponed-virtual-multi-chamber-when-the-crisis-passes-will-your-small-business-still-be-standing-9859
END:VEVENT

END:VCALENDAR
