BEGIN:VCALENDAR
VERSION:2.0
PRODID:-//ChamberMaster//Event Calendar 2.0//EN
METHOD:PUBLISH
X-PUBLISHED-TTL:P3D
REFRESH-INTERVAL:P3D
CALSCALE:GREGORIAN
BEGIN:VEVENT
DTSTART:20210331T153000Z
DTEND:20210331T170000Z
X-MICROSOFT-CDO-ALLDAYEVENT:FALSE
SUMMARY:Prevailing Wage Updates for 2021 and Beyond
DESCRIPTION:One of the country's leading prevailing wage law attorneys\, Jeffrey Risch of SmithAmundsen LLC\, will be presenting a timely webinar discussing and examining the Illinois Prevailing Wage Act\, and\, more importantly\, what the current Illinois Department of Labor is doing in administering and enforcing the law. Of course\, recent legislative changes (including the electronic submission of the certified transcript of payroll) will also be examined. Attorney Risch has dedicated 20+ years of his practice helping construction industry employers navigate prevailing wage laws. This timely presentation is not to be missed for any organization that performs or contracts work pursuant to local\, state or federal prevailing wage laws.
X-ALT-DESC;FMTTYPE=text/html:One of the country&rsquo\;s leading prevailing wage law attorneys\, Jeffrey Risch of SmithAmundsen LLC\, will be presenting a timely webinar discussing and examining the Illinois Prevailing Wage Act\, and\, more importantly\, what the current Illinois Department of Labor is doing in administering and enforcing the law. Of course\, recent legislative changes (including the electronic submission of the certified transcript of payroll) will also be examined. Attorney Risch has dedicated 20+ years of his practice helping construction industry employers navigate prevailing wage laws. This timely presentation is not to be missed for any organization that performs or contracts work pursuant to local\, state or federal prevailing wage laws.
LOCATION:Webinar
UID:e.1124.9947
SEQUENCE:3
DTSTAMP:20260421T094042Z
URL:https://business.glenellynchamber.com/events/details/prevailing-wage-updates-for-2021-and-beyond-9947
END:VEVENT

END:VCALENDAR
