BEGIN:VCALENDAR
VERSION:2.0
PRODID:-//ChamberMaster//Event Calendar 2.0//EN
METHOD:PUBLISH
X-PUBLISHED-TTL:P3D
REFRESH-INTERVAL:P3D
CALSCALE:GREGORIAN
BEGIN:VEVENT
DTSTART:20220224T163000Z
DTEND:20220224T180000Z
X-MICROSOFT-CDO-ALLDAYEVENT:FALSE
SUMMARY:Prevailing Wage Updates for 2022 and Beyond
DESCRIPTION:Join Labor & Employment Attorney\, Jeffrey Risch\, for a timely webinar discussing and examining the Illinois Prevailing Wage Act\, and\, more importantly\, what the current Administration will do and say in administering and enforcing the law. Of course\, new legislative changes (including electronic submission of certified transcript of payroll information and new automatic public disclosure of the same) will also be examined. Attorney Risch has dedicated over 20 years of his practice helping construction industry employers navigate through prevailing wage laws. This timely live webinar is not to be missed for any organization that performs or contracts under\, or in any way pursuant to\, local\, state or federal prevailing wage laws. Topics Will Include: IL Prevailing Wage Law 101 Contract Disclaimers and Protecting Your Own Bottom Line Completing the Certified Transcript of Payroll Dispelling Myths & Legend Relationship and interplay with Federal Davis-Bacon laws Local issues\, including Cook County's Prevailing Wage Ordinance Responding to Audits and Assessments Latest Case Law Decisions And more!
X-ALT-DESC;FMTTYPE=text/html:Join Labor &amp\; Employment Attorney\, Jeffrey Risch\, for a timely webinar discussing and examining the Illinois Prevailing Wage Act\, and\, more importantly\, what the current Administration will do and say in administering and enforcing the law. Of course\, new legislative changes (including electronic submission of certified transcript of payroll information and new automatic public disclosure of the same) will also be examined. Attorney Risch has dedicated over 20 years of his practice helping construction industry employers navigate through prevailing wage laws. This timely live webinar is not to be missed for any organization that performs or contracts under\, or in any way pursuant to\, local\, state or federal prevailing wage laws. Topics Will Include: IL Prevailing Wage Law 101 Contract Disclaimers and Protecting Your Own Bottom Line Completing the Certified Transcript of Payroll Dispelling Myths &amp\; Legend Relationship and interplay with Federal Davis-Bacon laws Local issues\, including Cook County&rsquo\;s Prevailing Wage Ordinance Responding to Audits and Assessments Latest Case Law Decisions And more!
LOCATION:Webinar - Virtual
UID:e.1124.10157
SEQUENCE:3
DTSTAMP:20260421T181143Z
URL:https://business.glenellynchamber.com/events/details/prevailing-wage-updates-for-2022-and-beyond-10157
END:VEVENT

END:VCALENDAR
