BEGIN:VCALENDAR
VERSION:2.0
PRODID:-//ChamberMaster//Event Calendar 2.0//EN
METHOD:PUBLISH
X-PUBLISHED-TTL:P3D
REFRESH-INTERVAL:P3D
CALSCALE:GREGORIAN
BEGIN:VEVENT
DTSTART:20201107T150000Z
DTEND:20201107T170000Z
X-MICROSOFT-CDO-ALLDAYEVENT:FALSE
SUMMARY:Pumpkin Smash
DESCRIPTION:Don't trash your pumpkins\, smash them with the Glen Ellyn Park District! Have fun smashing your jack-o-lantern and turning it into compost that will help nourish vegetable gardens next season instead of contributing to methane emissions in a landfill. All pumpkins will be weighed prior to smashing (please no painted pumpkins and all decorations and candles must be removed). Attendees are asked to wear a face covering and maintain proper social distancing. Free and open to the public\, no registration required.\n\n\n\nFor more information visit: gepark.org/pumpkinsmash
X-ALT-DESC;FMTTYPE=text/html:Don&#39\;t trash your pumpkins\, smash them with the Glen Ellyn Park District! Have fun smashing your jack-o-lantern and turning it into compost that will help nourish vegetable gardens next season instead of contributing to methane emissions in a landfill. All pumpkins will be weighed prior to smashing (please no painted pumpkins and all decorations and candles must be removed). Attendees are asked to wear a face covering and maintain proper social distancing. Free and open to the public\, no registration required.<br />\n<br />\nFor more information visit:&nbsp\;<span style="font-family:calibri\,sans-serif\;"><span style="font-size:11.0pt\;">gepark.org/pumpkinsmash</span></span>
LOCATION:Village Green Park 130 S. Lambert Road Glen Ellyn
UID:e.1124.9866
SEQUENCE:3
DTSTAMP:20260421T133723Z
URL:https://business.glenellynchamber.com/events/details/pumpkin-smash-9866
END:VEVENT

END:VCALENDAR
