BEGIN:VCALENDAR
VERSION:2.0
PRODID:-//ChamberMaster//Event Calendar 2.0//EN
METHOD:PUBLISH
X-PUBLISHED-TTL:P3D
REFRESH-INTERVAL:P3D
CALSCALE:GREGORIAN
BEGIN:VEVENT
DTSTART:20260722T210000Z
DTEND:20260722T223000Z
X-MICROSOFT-CDO-ALLDAYEVENT:FALSE
SUMMARY:Savor & Socialize: Women in Business After Hours at Olive 'n Vinnie's Market
DESCRIPTION:We are happy to invite you to an After Hours at Olive 'n Vinnie's Market on Wed\, July 22nd from 4-5:30pm.  Michelle Momeyer\, owner of Olive 'n Vinnie's Market will  provide you with a private tour of the shop\, sampling of olive oil\, balsamic\, sangria and other products.  Michelle will also share her professional journey that led her to Olive 'n Vinnie's Market.
X-ALT-DESC;FMTTYPE=text/html:<span style="font-size:16px\;">We are happy to invite you to an After Hours at Olive &#39\;n Vinnie&#39\;s Market on Wed\, July 22nd from 4-5:30pm.&nbsp\; Michelle Momeyer\, owner of Olive &#39\;n Vinnie&#39\;s Market will&nbsp\; provide you with a private tour of the shop\, sampling of olive oil\, balsamic\, sangria and other products.&nbsp\; Michelle will also share her professional journey that led her to Olive &#39\;n Vinnie&#39\;s Market.</span>
LOCATION:Olive 'n Vinnie's Market 449 N Main St. Glen Ellyn\, IL 60137
UID:e.1124.17543
SEQUENCE:3
DTSTAMP:20260420T224943Z
URL:https://business.glenellynchamber.com/events/details/savor-socialize-women-in-business-after-hours-at-olive-n-vinnie-s-market-17543
END:VEVENT

END:VCALENDAR
