BEGIN:VCALENDAR
VERSION:2.0
PRODID:-//ChamberMaster//Event Calendar 2.0//EN
METHOD:PUBLISH
X-PUBLISHED-TTL:P3D
REFRESH-INTERVAL:P3D
CALSCALE:GREGORIAN
BEGIN:VEVENT
DTSTART;VALUE=DATE:20201021
DTEND;VALUE=DATE:20201101
TRANSP:TRANSPARENT
X-MICROSOFT-CDO-ALLDAYEVENT:TRUE
SUMMARY:Scarecrow Rows Glen Ellyn
DESCRIPTION:Click Here for More Information
X-ALT-DESC;FMTTYPE=text/html:<span style="font-size:20px\;"><a href="http://www.glenellynchamber.com/halloween"><strong>Click Here for More Information</strong></a></span>
LOCATION:
UID:e.1124.9841
SEQUENCE:3
DTSTAMP:20260421T163649Z
URL:https://business.glenellynchamber.com/events/details/scarecrow-rows-glen-ellyn-9841
END:VEVENT

END:VCALENDAR
