BEGIN:VCALENDAR
VERSION:2.0
PRODID:-//ChamberMaster//Event Calendar 2.0//EN
METHOD:PUBLISH
X-PUBLISHED-TTL:P3D
REFRESH-INTERVAL:P3D
CALSCALE:GREGORIAN
BEGIN:VEVENT
DTSTART:20230429T150000Z
DTEND:20230429T170000Z
X-MICROSOFT-CDO-ALLDAYEVENT:FALSE
SUMMARY:Shred Event at Lombard Bank & Trust
DESCRIPTION:Join us on Saturday April 29th from 10:00am to Noon at Lombard Bank & Trust for a FREE shred event. Please note\, once the shred truck is full\, we'll be unable to take additional shredding materials. See you there!
X-ALT-DESC;FMTTYPE=text/html:<span style="background:white\;"><span style="color:#1C2B33\;"><span style="font-family:segoe ui\,sans-serif\;"><span style="font-size:10.5pt\;">Join us on Saturday April 29th from 10:00am to Noon at Lombard Bank &amp\; Trust for a FREE shred event. Please note\, once the shred truck is full\, we&rsquo\;ll be unable to take additional shredding materials. See you there!</span></span></span></span>
LOCATION:1145 S Main St\, Lombard\, IL 60148
UID:e.1124.10786
SEQUENCE:3
DTSTAMP:20260421T083455Z
URL:https://business.glenellynchamber.com/events/details/shred-event-at-lombard-bank-trust-10786
END:VEVENT

END:VCALENDAR
