BEGIN:VCALENDAR
VERSION:2.0
PRODID:-//ChamberMaster//Event Calendar 2.0//EN
METHOD:PUBLISH
X-PUBLISHED-TTL:P3D
REFRESH-INTERVAL:P3D
CALSCALE:GREGORIAN
BEGIN:VEVENT
DTSTART:20200915T130000Z
DTEND:20200915T150000Z
X-MICROSOFT-CDO-ALLDAYEVENT:FALSE
SUMMARY:Sold Out: Moving Glen Ellyn Forward Through the Pandemic - September Monthly Meeting (Live Outdoors)
DESCRIPTION:This Event is SOLD OUT\n\n \n\nMoving Glen Ellyn Forward Through the Pandemic - September Monthly Meeting (Live Outdoors)\n\n \n\nPresident McGinley and Village Manager Franz will discuss challenges presented during the COVID-19 pandemic and how the Village is navigating and moving forward in continuing to support businesses and residents. An update on Village projects\, developments and initiatives will also be given. \n\n \n\nThis will be an in person breakfast outside under the Main Street dining tent. Nobel House will be providing their Rise + Shine Breakfast. Includes: Scrambled eggs\, breakfast potatoes\, toast\, bacon\, juice & coffee. \n\n \n\nWant to attend the meeting virtually?\n\nThe presentation will be recorded and posted on our YouTube Channel.\n\n\n\n*Face covering are required with the exception while eating and drinking at your table.
X-ALT-DESC;FMTTYPE=text/html:<div font-size:="" open="" style="color: rgb(0\, 0\, 0)\; text-align: center\;" white-space:=""><span style="font-size:18px\;"><strong><span style="color:#FF0000\;"><span style="font-family:arial\,sans-serif\;">This Event is SOLD OUT</span></span></strong></span><br />\n&nbsp\;</div>\n\n<div font-size:="" open="" style="color: rgb(0\, 0\, 0)\; font-family: " white-space:=""><span style="font-size:14px\;"><span style="font-size:16px\;"><strong><span style="color:black\;"><span style="font-family:arial\,sans-serif\;">Moving Glen Ellyn Forward Through the Pandemic - September Monthly Meeting (Live Outdoors)</span></span></strong></span></span><br />\n&nbsp\;<br />\n<span style="font-family:arial\;"><span style="font-size:14px\;"><span style="color:black\;">President McGinley and Village Manager Franz will discuss challenges presented during the COVID-19 pandemic and how the Village is navigating and moving forward in continuing to support businesses and residents. An update on Village projects\, developments and initiatives will also be given.&nbsp\;</span><br />\n&nbsp\;<br />\n<span style="color:black\;">This will be an in person breakfast outside under the Main Street dining tent. Nobel House will be providing their Rise + Shine Breakfast. Includes: Scrambled eggs\, breakfast potatoes\, toast\, bacon\, juice &amp\; coffee.&nbsp\;</span><br />\n&nbsp\;<br />\n<strong><span style="color:black\;">Want to attend the meeting virtually?</span></strong><br />\n<span style="color:black\;">The presentation will be recorded and posted on our YouTube Channel.</span><br />\n<br />\n<strong><em><span style="color:black\;">*Face covering are required with the exception while eating and drinking at your table.</span></em></strong></span></span></div>\n
LOCATION:Main Street Al Fresco Tent Located between Duane & Main Street Lot
UID:e.1124.9773
SEQUENCE:3
DTSTAMP:20260425T142731Z
URL:https://business.glenellynchamber.com/events/details/sold-out-moving-glen-ellyn-forward-through-the-pandemic-september-monthly-meeting-live-outdoors-9773
END:VEVENT

END:VCALENDAR
