BEGIN:VCALENDAR
VERSION:2.0
PRODID:-//ChamberMaster//Event Calendar 2.0//EN
METHOD:PUBLISH
X-PUBLISHED-TTL:P3D
REFRESH-INTERVAL:P3D
CALSCALE:GREGORIAN
BEGIN:VEVENT
DTSTART:20210325T140000Z
DTEND:20210325T210000Z
X-MICROSOFT-CDO-ALLDAYEVENT:FALSE
SUMMARY:Supervisory Training for New and Seasoned Supervisors
DESCRIPTION:The State of Illinois continues to reshape the employment landscape every year. Supervisors need to know how to handle specific topics to stay in compliance with the new Illinois laws. This full day seminar\, utilizing the Supervisor's Handbook written by Litchfield Cavo\, LLP in partnership with the Illinois Chamber of Commerce\, will provide that guidance. Supervisors will receive the necessary framework using the Supervisor's Handbook as a manual for the day and provide the needed update needed for 2021 and beyond. Join us for this full day seminar\, receive a copy of the Supervisor's Handbook\, and leave with a complete understanding of the changing employment laws in the State of Illinois and know just how to handle those situations before they come up. Topics will include: p Overview of the Numerous Employment Laws in Illinois p Tips on handling specific everyday situations from Hiring through Firing p Incorporating EVERY recent employment law change into the workplace p Guidance to Sexual Harassment Training in 2021 p Handling Marijuana and Drug-Testing issues in 2021 p Other necessary situations supervisors all need to know how to handle p Do's and Don'ts for Supervisors transitioning into a new management role p Recognizing and responding to workplace violence
X-ALT-DESC;FMTTYPE=text/html:The State of Illinois continues to reshape the employment landscape every year. Supervisors need to know how to handle specific topics to stay in compliance with the new Illinois laws. This full day seminar\, utilizing the Supervisor&rsquo\;s Handbook written by Litchfield Cavo\, LLP in partnership with the Illinois Chamber of Commerce\, will provide that guidance. Supervisors will receive the necessary framework using the Supervisor&rsquo\;s Handbook as a manual for the day and provide the needed update needed for 2021 and beyond. Join us for this full day seminar\, receive a copy of the Supervisor&rsquo\;s Handbook\, and leave with a complete understanding of the changing employment laws in the State of Illinois and know just how to handle those situations before they come up. Topics will include: p Overview of the Numerous Employment Laws in Illinois p Tips on handling specific everyday situations from Hiring through Firing p Incorporating EVERY recent employment law change into the workplace p Guidance to Sexual Harassment Training in 2021 p Handling Marijuana and Drug-Testing issues in 2021 p Other necessary situations supervisors all need to know how to handle p Do&rsquo\;s and Don&rsquo\;ts for Supervisors transitioning into a new management role p Recognizing and responding to workplace violence
LOCATION:NIU Center - Room 166 1120 E. Diehl Road Naperville\, IL 60563
UID:e.1124.9944
SEQUENCE:3
DTSTAMP:20260421T093902Z
URL:https://business.glenellynchamber.com/events/details/supervisory-training-for-new-and-seasoned-supervisors-9944
END:VEVENT

END:VCALENDAR
