BEGIN:VCALENDAR
VERSION:2.0
PRODID:-//ChamberMaster//Event Calendar 2.0//EN
METHOD:PUBLISH
X-PUBLISHED-TTL:P3D
REFRESH-INTERVAL:P3D
CALSCALE:GREGORIAN
BEGIN:VEVENT
DTSTART:20211122T180000Z
DTEND:20211122T230000Z
X-MICROSOFT-CDO-ALLDAYEVENT:FALSE
SUMMARY:Thankful For You-Designed Especially for Healthcare Professionals
DESCRIPTION:Thankful for You Event\n\nThank you to all our referral sources who have partnered with\n\nArden Courts to spread the word about our memory care\n\ncommunity! To show our appreciation\, drive by the front of\n\nArden Courts to:\n\n  Learn about Arden Courts and how we are a part of\n\nProMedica\, a not-for-profit\, mission-based organization.\n\n  Meet our team of dementia professionals.\n\n  Find out information regarding our holiday and trial-stay\n\nprograms for your clientele.\n\n  Pick up your complimentary Thanksgiving pie to enjoy at\n\nhome!\n\nRSVP with your pie choice\, either apple\, pecan or pumpkin\,\n\non or prior to November 18\, 2021.\n\nWe will be adhering to all CDC COVID-19 protocols\n\nincluding mask wearing\, social distancing and hand\n\nsanitizing.\n\n\n\nRSVP by November 18th:\n\n630-469-5500 or\n\nGlenEllynArdenCourts@\n\npromedica.org
X-ALT-DESC;FMTTYPE=text/html:Thankful for You Event<br />\nThank you to all our referral sources who have partnered with<br />\nArden Courts to spread the word about our memory care<br />\ncommunity! To show our appreciation\, drive by the front of<br />\nArden Courts to:<br />\n&bull\; Learn about Arden Courts and how we are a part of<br />\nProMedica\, a not-for-profit\, mission-based organization.<br />\n&bull\; Meet our team of dementia professionals.<br />\n&bull\; Find out information regarding our holiday and trial-stay<br />\nprograms for your clientele.<br />\n&bull\; Pick up your complimentary Thanksgiving pie to enjoy at<br />\nhome!<br />\nRSVP with your pie choice\, either apple\, pecan or pumpkin\,<br />\non or prior to November 18\, 2021.<br />\nWe will be adhering to all CDC COVID-19 protocols<br />\nincluding mask wearing\, social distancing and hand<br />\nsanitizing.<br />\n<br />\nRSVP by November 18th:<br />\n630-469-5500 or<br />\nGlenEllynArdenCourts@<br />\npromedica.org
LOCATION:
UID:e.1124.10036
SEQUENCE:3
DTSTAMP:20260424T142559Z
URL:https://business.glenellynchamber.com/events/details/thankful-for-you-designed-especially-for-healthcare-professionals-10036
END:VEVENT

END:VCALENDAR
