BEGIN:VCALENDAR
VERSION:2.0
PRODID:-//ChamberMaster//Event Calendar 2.0//EN
METHOD:PUBLISH
X-PUBLISHED-TTL:P3D
REFRESH-INTERVAL:P3D
CALSCALE:GREGORIAN
BEGIN:VEVENT
DTSTART:20201015T213000Z
DTEND:20201015T223000Z
X-MICROSOFT-CDO-ALLDAYEVENT:FALSE
SUMMARY:Third Thursday Business After Hours
DESCRIPTION:CANCELED \n\n\n\nJoin us for a virtual networking opportunity to further your connections. At this meeting you will have the opportunity to introduce your business and answer this month's topic question.\n\n \n\nAfter the meeting the Chamber will provide contact information of all attendees in lieu of business cards.\n\n\n\nInterested in a specific topic for future Third Thursday? Send an email jaclyn@glenellynchamber.com.
X-ALT-DESC;FMTTYPE=text/html:<span style="color: rgb(0\, 0\, 0)\; font-size: 16px\; font-family: arial\;"><strong>CANCELED&nbsp\;</strong><br />\n<br />\nJoin us for a virtual networking opportunity to further your connections. At this meeting you will have the opportunity to introduce your business and answer this month&#39\;s topic question.<br />\n&nbsp\;</span><br style="color: rgb(0\, 0\, 0)\; font-size: 16px\;" />\n<span style="color: black\; font-size: 16px\;"><span style="font-family: arial\, sans-serif\;"><span style="font-family: arial\;">After the meeting the Chamber will provide contact information of all attendees in lieu of business cards.</span></span></span><br style="color: rgb(0\, 0\, 0)\; font-size: 16px\;" />\n<br style="color: rgb(0\, 0\, 0)\; font-size: 16px\;" />\n<span style="color: rgb(0\, 0\, 0)\; font-size: 16px\;">Interested in a specific topic for future Third Thursday? Send an email&nbsp\;</span><a href="http://jaclyn@glenellynchamber.com." style="font-size: 16px\;">jaclyn@glenellynchamber.com.</a><br />\n<br />\n&nbsp\;\n<div>&nbsp\;</div>\n
LOCATION:Virtual Meeting via Zoom (a link to join will be emailed prior the meeting)
UID:e.1124.9462
SEQUENCE:3
DTSTAMP:20260421T163655Z
URL:https://business.glenellynchamber.com/events/details/third-thursday-business-after-hours-9462
END:VEVENT

END:VCALENDAR
