BEGIN:VCALENDAR
VERSION:2.0
PRODID:-//ChamberMaster//Event Calendar 2.0//EN
METHOD:PUBLISH
X-PUBLISHED-TTL:P3D
REFRESH-INTERVAL:P3D
CALSCALE:GREGORIAN
BEGIN:VEVENT
DTSTART:20210303T163000Z
DTEND:20210303T180000Z
X-MICROSOFT-CDO-ALLDAYEVENT:FALSE
SUMMARY:To Mandate Vaccines or Not: What Employers Need to Understand
DESCRIPTION:2020 placed more focus on health care in the workplace and what employers can or should do to protect the health and safety of employees\, clients and vendors. The release of the COVID-19 vaccine raises the question of whether employers can require employees to receive that -- or any ? vaccine and the implications for employers of imposing such a requirement.\nJoin Suzannah Wilson Overholt and Jeffrey Risch with SmithAmundsen LLC as they discuss legal issues related to vaccine and other similar requirements in the workplace for 2021.
X-ALT-DESC;FMTTYPE=text/html:2020 placed more focus on health care in the workplace and what employers can or should do to protect the health and safety of employees\, clients and vendors. The release of the COVID-19 vaccine raises the question of whether employers can require employees to receive that -- or any ? vaccine and the implications for employers of imposing such a requirement.\nJoin Suzannah Wilson Overholt and Jeffrey Risch with SmithAmundsen LLC as they discuss legal issues related to vaccine and other similar requirements in the workplace for 2021.
LOCATION:Webinar
UID:e.1124.9939
SEQUENCE:3
DTSTAMP:20260421T094830Z
URL:https://business.glenellynchamber.com/events/details/to-mandate-vaccines-or-not-what-employers-need-to-understand-9939
END:VEVENT

END:VCALENDAR
