BEGIN:VCALENDAR
VERSION:2.0
PRODID:-//ChamberMaster//Event Calendar 2.0//EN
METHOD:PUBLISH
X-PUBLISHED-TTL:P3D
REFRESH-INTERVAL:P3D
CALSCALE:GREGORIAN
BEGIN:VEVENT
DTSTART:20201126T130000Z
DTEND:20201126T170000Z
X-MICROSOFT-CDO-ALLDAYEVENT:FALSE
SUMMARY:Turkey Burn & Food Drive
DESCRIPTION:For more information visit: https://www.ackermansfc.com/ackerman-event/turkey-burn/
X-ALT-DESC;FMTTYPE=text/html:For more information visit:&nbsp\;<span style="font-family:calibri\,sans-serif\;"><span style="font-size:11.0pt\;"><a href="https://www.ackermansfc.com/ackerman-event/turkey-burn/">https://www.ackermansfc.com/ackerman-event/turkey-burn/</a></span></span>
LOCATION:Ackerman Sports & Fitness Center
UID:e.1124.9865
SEQUENCE:3
DTSTAMP:20260421T133812Z
URL:https://business.glenellynchamber.com/events/details/turkey-burn-food-drive-9865
END:VEVENT

END:VCALENDAR
