BEGIN:VCALENDAR
VERSION:2.0
PRODID:-//ChamberMaster//Event Calendar 2.0//EN
METHOD:PUBLISH
X-PUBLISHED-TTL:P3D
REFRESH-INTERVAL:P3D
CALSCALE:GREGORIAN
BEGIN:VEVENT
DTSTART:20220210T220000Z
DTEND:20220211T000000Z
X-MICROSOFT-CDO-ALLDAYEVENT:FALSE
SUMMARY:Valentines On the Run
DESCRIPTION:Valentines on the Run! Love is in the air! And Anthology of Wheaton wants to show you some...socially disattended! Stop by and pick up Valentine's Day treats and wine to share with that someone special (or keep them all for yourself)!
X-ALT-DESC;FMTTYPE=text/html:Valentines on the Run! Love is in the air! And Anthology of Wheaton wants to show you some...socially disattended! Stop by and pick up Valentine&#39\;s Day treats and wine to share with that someone special (or keep them all for yourself)!
LOCATION:Anthology of Wheaton 219 Parkway Drive Wheaton\, IL 60187
UID:e.1124.10148
SEQUENCE:3
DTSTAMP:20260421T163656Z
URL:https://business.glenellynchamber.com/events/details/valentines-on-the-run-10148
END:VEVENT

END:VCALENDAR
