BEGIN:VCALENDAR
VERSION:2.0
PRODID:-//ChamberMaster//Event Calendar 2.0//EN
METHOD:PUBLISH
X-PUBLISHED-TTL:P3D
REFRESH-INTERVAL:P3D
CALSCALE:GREGORIAN
BEGIN:VEVENT
DTSTART:20200923T130000Z
DTEND:20200923T140000Z
X-MICROSOFT-CDO-ALLDAYEVENT:FALSE
SUMMARY:Virtual Chamber 101 Informational Meeting
DESCRIPTION:The Glen Ellyn Chamber of Commerce has many new member benefits and cost saving programs. Whether you are a new member or a veteran\, come and learn how the Chamber works for you! At this session you can schedule your benefits for the year\, use your member log-in to learn how to easily update your information online\, network with new members and Chamber Board of Directors\, learn about new events and how to get involved.
X-ALT-DESC;FMTTYPE=text/html:The Glen Ellyn Chamber of Commerce has many new member benefits and cost saving programs. Whether you are a new member or a veteran\, come and learn how the Chamber works for you! At this session you can schedule your benefits for the year\, use your member log-in to learn how to easily update your information online\, network with new members and Chamber Board of Directors\, learn about new events and how to get involved.&nbsp\;
LOCATION:Virtual Meeting via Zoom (a link will be emailed prior to the meeting)
UID:e.1124.9438
SEQUENCE:3
DTSTAMP:20260425T154018Z
URL:https://business.glenellynchamber.com/events/details/virtual-chamber-101-informational-meeting-9438
END:VEVENT

END:VCALENDAR
