BEGIN:VCALENDAR
VERSION:2.0
PRODID:-//ChamberMaster//Event Calendar 2.0//EN
METHOD:PUBLISH
X-PUBLISHED-TTL:P3D
REFRESH-INTERVAL:P3D
CALSCALE:GREGORIAN
BEGIN:VEVENT
DTSTART:20201127T180000Z
DTEND:20201127T180000Z
X-MICROSOFT-CDO-ALLDAYEVENT:FALSE
SUMMARY:Virtual Holiday Walk & Tree Lighting Ceremony
DESCRIPTION:Due to COVID-19 the Holiday Walk & Tree Lighting Ceremony will be virtual. A Youtube link will be available. This is provided by the collaboration of the Chamber\, the Village and Public Library.\n\n\n\nVisit glenellynchamber.com/holiday for details
X-ALT-DESC;FMTTYPE=text/html:<p style="color: rgb(64\, 63\, 66)\; font-family: Arial\, Verdana\, Helvetica\, sans-serif\; font-size: 12px\; white-space: pre-wrap\;"><span style="box-sizing: border-box\; font-weight: 700\; font-family: Montserrat\, sans-serif\; font-size: 18px\; text-align: center\;">Due to COVID-19 the Holiday Walk &amp\; Tree Lighting Ceremony will be virtual. A&nbsp\;</span><span style="box-sizing: border-box\; font-weight: 700\; font-family: Montserrat\, sans-serif\; font-size: 18px\; text-align: center\;">Youtube</span><span style="box-sizing: border-box\; font-weight: 700\; font-family: Montserrat\, sans-serif\; font-size: 18px\; text-align: center\;">&nbsp\;link will be available. This is provided by the collaboration of the Chamber\, the Village and Public Library.</span><br />\n<br />\n<span style="font-family:arial\,sans-serif\;"><span style="font-size:10.5pt\;"><span style="font-size:20px\;"><strong>Visit </strong></span></span></span><span style="color:black\;"><span style="font-family:arial\,sans-serif\;"><span style="font-size:10.5pt\;"><span style="font-size:20px\;"><strong><a href="http://glenellynchamber.com/holiday">glenellynchamber.com/holiday</a> </strong></span></span></span></span><span style="font-family:arial\,sans-serif\;"><span style="font-size:10.5pt\;"><span style="font-size:20px\;"><strong>for details</strong></span></span></span></p>\n
LOCATION:Virtual (Youtube Link)
UID:e.1124.9737
SEQUENCE:3
DTSTAMP:20260421T133704Z
URL:https://business.glenellynchamber.com/events/details/virtual-holiday-walk-tree-lighting-ceremony-9737
END:VEVENT

END:VCALENDAR
