BEGIN:VCALENDAR
VERSION:2.0
PRODID:-//ChamberMaster//Event Calendar 2.0//EN
METHOD:PUBLISH
X-PUBLISHED-TTL:P3D
REFRESH-INTERVAL:P3D
CALSCALE:GREGORIAN
BEGIN:VEVENT
DTSTART:20200920T140000Z
DTEND:20200920T180000Z
X-MICROSOFT-CDO-ALLDAYEVENT:FALSE
SUMMARY:VOTER REGISTRATION GLEN ELLYN FRENCH MARKET Sept 20th 9am-1pm by LWVGE
DESCRIPTION:Register or check your registration at the Glen Ellyn French Market. The League will have registrars on hand to register you to vote or answer any questions you might have.  Students turning 18 or or before Nov 3\, 2020 are eligible to vote in the upcoming election. Please encourage them to register!
X-ALT-DESC;FMTTYPE=text/html:<span style="background-color:rgb(255\, 255\, 255)\; color:rgba(4\, 3\, 32\, 0.7)\; font-family:adobe-garamond-pro\; font-size:29px">Register or check your registration at the Glen Ellyn French Market. The League will have registrars on hand to register you to vote or answer any questions you might have. </span>&nbsp\;<span style="font-size:24px">S</span><span style="font-family:times new roman"><span style="font-size:24px"><span style="font-size:28px">tudents turning 18 or or before Nov 3\, 2020 are eligible to vote in the upcoming election. Please encourage them to register!&nbsp\;</span></span></span>
LOCATION:Glen Ellyn French Market
UID:e.1124.9852
SEQUENCE:3
DTSTAMP:20260425T141852Z
URL:https://business.glenellynchamber.com/events/details/voter-registration-glen-ellyn-french-market-sept-20th-9am-1pm-by-lwvge-9852
END:VEVENT

END:VCALENDAR
