BEGIN:VCALENDAR
VERSION:2.0
PRODID:-//ChamberMaster//Event Calendar 2.0//EN
METHOD:PUBLISH
X-PUBLISHED-TTL:P3D
REFRESH-INTERVAL:P3D
CALSCALE:GREGORIAN
BEGIN:VEVENT
DTSTART:20220318T000000Z
DTEND:20220318T013000Z
X-MICROSOFT-CDO-ALLDAYEVENT:FALSE
SUMMARY:"Voter Rights\, Voter Suppression and Election Security" LWVGE Community Meeting\, March 17th\, 7-8:30
DESCRIPTION:Voter suppression   how did we get here? Now that the John Lewis Voting Rights Advancement Act is stalled in Congress and new laws that suppress the vote are popping up across the country\, what's next? Join us to discuss this important issue and learn what we can do as citizens to protect our democracy. To attend our virtual Zoom Community Meeting: Register: www.lwvge.org/upcoming events After registering\, you will receive a confirmation email containing information about joining the webinar.
X-ALT-DESC;FMTTYPE=text/html:Voter suppression &mdash\; how did we get here? Now that the John Lewis Voting Rights Advancement Act is stalled in Congress and new laws that suppress the vote are popping up across the country\, what&rsquo\;s next? Join us to discuss this important issue and learn what we can do as citizens to protect our democracy. To attend our virtual Zoom Community Meeting: Register: www.lwvge.org/upcoming events After registering\, you will receive a confirmation email containing information about joining the webinar.
LOCATION:Via Zoom
UID:e.1124.10163
SEQUENCE:3
DTSTAMP:20260421T151504Z
URL:https://business.glenellynchamber.com/events/details/voter-rights-voter-suppression-and-election-security-lwvge-community-meeting-march-17th-7-8-30-10163
END:VEVENT

END:VCALENDAR
