BEGIN:VCALENDAR
VERSION:2.0
PRODID:-//ChamberMaster//Event Calendar 2.0//EN
METHOD:PUBLISH
X-PUBLISHED-TTL:P3D
REFRESH-INTERVAL:P3D
CALSCALE:GREGORIAN
BEGIN:VEVENT
DTSTART:20220209T180000Z
DTEND:20220209T190000Z
X-MICROSOFT-CDO-ALLDAYEVENT:FALSE
SUMMARY:West Suburban Chamber of Commerce Exec Lunch
DESCRIPTION:Menu selection of : (with choice of side & a beer tasting of the most recent release included)\n	\n		The Old Fashioned: 8oz patty\, cheddar\, red leaf lettuce\, tomato\, red onion\, sweet & spicy pickles\n		Pesto Chicken: toasted house-made focaccia bread\, pesto chicken\, sauteed bell peppers\, mixed greens\, tomato & mozzarella cheese\n		Fall Kale Salad: kale\, Manchego cheese\, quinoa\, butternut squash\, pumpkin seeds\, cranberries in a citrus dressing
X-ALT-DESC;FMTTYPE=text/html:<ul>\n	<li style="margin-left:0in\;">Menu selection of : (with choice of side &amp\; a beer tasting of the most recent release included)\n	<ul>\n		<li style="margin-left:0in\;">The Old Fashioned: 8oz patty\, cheddar\, red leaf lettuce\, tomato\, red onion\, sweet &amp\; spicy pickles</li>\n		<li style="margin-left:0in\;">Pesto Chicken: toasted house-made focaccia bread\, pesto chicken\, sauteed bell peppers\, mixed greens\, tomato &amp\; mozzarella cheese</li>\n		<li style="margin-left:0in\;">Fall Kale Salad: kale\, Manchego cheese\, quinoa\, butternut squash\, pumpkin seeds\, cranberries in a citrus dressing</li>\n	</ul>\n	</li>\n</ul>\n
LOCATION:Two Hound Red 486 Pennsylvania Ave Glen Ellyn\, IL 60137 *private dining room
UID:e.1124.10151
SEQUENCE:3
DTSTAMP:20260421T164743Z
URL:https://business.glenellynchamber.com/events/details/west-suburban-chamber-of-commerce-exec-lunch-10151
END:VEVENT

END:VCALENDAR
