BEGIN:VCALENDAR
VERSION:2.0
PRODID:-//ChamberMaster//Event Calendar 2.0//EN
METHOD:PUBLISH
X-PUBLISHED-TTL:P3D
REFRESH-INTERVAL:P3D
CALSCALE:GREGORIAN
BEGIN:VEVENT
DTSTART:20210331T140000Z
DTEND:20210331T210000Z
X-MICROSOFT-CDO-ALLDAYEVENT:FALSE
SUMMARY:Workers’ Compensation Workshop What’s Changed for 2021?
DESCRIPTION:Join Attorneys from Keefe\, Campbell\, Biery & Associates to learn what has changed for 2021 regarding Workers' Compensation! The presentation will offer an overview of Illinois Workers' Compensation where attendees will gain a greater understanding of the IL Workers' Compensation system of benefits and litigation\, learning key terms & terminology. This will include a discussion of issues you may encounter during claims and tips for effective handling and management. The presenters will discuss specific areas including the impact of COVID-19 claims and legalization of cannabis as well as relevant case-law updates.
X-ALT-DESC;FMTTYPE=text/html:Join Attorneys from Keefe\, Campbell\, Biery &amp\; Associates to learn what has changed for 2021 regarding Workers&rsquo\; Compensation! The presentation will offer an overview of Illinois Workers&rsquo\; Compensation where attendees will gain a greater understanding of the IL Workers&rsquo\; Compensation system of benefits and litigation\, learning key terms &amp\; terminology. This will include a discussion of issues you may encounter during claims and tips for effective handling and management. The presenters will discuss specific areas including the impact of COVID-19 claims and legalization of cannabis as well as relevant case-law updates.
LOCATION:NIU Center Room 167 1120 E. Diehl Road Naperville\, IL 60563
UID:e.1124.9945
SEQUENCE:3
DTSTAMP:20260421T093531Z
URL:https://business.glenellynchamber.com/events/details/workers-compensation-workshop-what-s-changed-for-2021-9945
END:VEVENT

END:VCALENDAR
