BEGIN:VCALENDAR
VERSION:2.0
PRODID:-//ChamberMaster//Event Calendar 2.0//EN
METHOD:PUBLISH
X-PUBLISHED-TTL:P3D
REFRESH-INTERVAL:P3D
CALSCALE:GREGORIAN
BEGIN:VEVENT
DTSTART:20201007T170000Z
DTEND:20201007T183000Z
X-MICROSOFT-CDO-ALLDAYEVENT:FALSE
SUMMARY:WSCCE October Luncheon - in person
DESCRIPTION:WSCCE Luncheon \n\n\n\nMENU:\n\n\n\nLOCAL BURGER\n\n8 oz angus burger\, choice of cheddar or swiss\n\nchoice of side: fries\, mashed potatoes\, side salad \n\n \n\nVEGGIE BURGER\n\nmushroom\, spinach\, farro\, feta\, walnuts\, smoked garlic aioli\, poblano slaw\n\nchoice of side: fries\, mashed potatoes\, side salad\, or mac \n\n \n\nMAIZE SALAD\n\nmixed greens\, charred corn\, peppadew peppers\, feta cheese\, pumpkin seeds\, cilantro vinaigrette
X-ALT-DESC;FMTTYPE=text/html:<p><span style="font-size:16px\;"><span style="font-family:arial\;">&nbsp\;WSCCE Luncheon&nbsp\;<br />\n<br />\n<u>MENU:</u><br />\n<br />\n<span style="font-weight: bold\; letter-spacing: 0.35pt\; color: black\;">LOCAL BURGER</span><br />\n<span style="letter-spacing:.35pt\;"><span style="color:black\;">8 oz angus burger\, choice of cheddar or swiss</span></span><br />\n<em><span style="letter-spacing:.35pt\;"><span style="color:black\;">choice of side: fries\, mashed potatoes\, side salad</span></span></em>&nbsp\;<br />\n&nbsp\;<br />\n<strong><span style="letter-spacing:.35pt\;"><span style="color:black\;">VEGGIE BURGER</span></span></strong><br />\n<span style="letter-spacing:.35pt\;"><span style="color:black\;">mushroom\, spinach\, farro\, feta\, walnuts\, smoked garlic aioli\, poblano slaw</span></span><br />\n<em><span style="letter-spacing:.35pt\;"><span style="color:black\;">choice of side: fries\, mashed potatoes\, side salad\, or mac</span></span></em>&nbsp\;<br />\n&nbsp\;<br />\n<strong><span style="letter-spacing:.35pt\;"><span style="color:black\;">MAIZE SALAD</span></span></strong><br />\n<span style="letter-spacing:.35pt\;"><span style="color:black\;">mixed greens\, charred corn\, peppadew peppers\, feta cheese\, pumpkin seeds\, cilantro vinaigrette</span></span></span></span></p>\n
LOCATION:Maize + Mash
UID:e.1124.9855
SEQUENCE:3
DTSTAMP:20260421T164451Z
URL:https://business.glenellynchamber.com/events/details/wscce-october-luncheon-in-person-9855
END:VEVENT

END:VCALENDAR
